BEGIN:VCALENDAR
VERSION:2.0
PRODID:-//wp-events-plugin.com//7.2.3.1//EN
TZID:Europe/Paris
X-WR-TIMEZONE:Europe/Paris
BEGIN:VEVENT
UID:717@toulouse.occeo.net
DTSTART:20200622T190000Z
DTEND:20200622T200000Z
DTSTAMP:20200528T092228Z
URL:https://toulouse.occeo.net/evenements/esperanto-magazino-n213/
SUMMARY:Esperanto-magazino N°213
DESCRIPTION:de 20h a 21h sur Canal-Sud\, 92.2Mhz à Toulouse ou sur canals
 ud.net\nEsperanto-Magazino est l’émission sur l’espéranto à Toulous
 e\, avec des reportages\, des interviews\, de la poésie\, de l'histoire..
 .
ATTACH;FMTTYPE=image/jpeg:https://toulouse.occeo.net/wp-content/uploads/20
 20/05/Copy-of-Wordpress-EM-logo2.png
CATEGORIES:local,régional
END:VEVENT
END:VCALENDAR