BEGIN:VCALENDAR
VERSION:2.0
PRODID:-//wp-events-plugin.com//7.2.3.1//EN
TZID:Europe/Paris
X-WR-TIMEZONE:Europe/Paris
BEGIN:VEVENT
UID:748@toulouse.occeo.net
DTSTART:20200810T180000Z
DTEND:20200810T190000Z
DTSTAMP:20200720T121431Z
URL:https://toulouse.occeo.net/evenements/esperanto-magazino-n216-3/
SUMMARY:Espéranto-Magazino N°216
DESCRIPTION:de 20h a 21h sur Canal-Sud\, 92.2Mhz à Toulouse ou sur canals
 ud.net\nEsperanto-Magazino est l’émission sur l’espéranto à Toulous
 e\, un lundi sur deux\, avec des reportages\, des interviews\, de la poés
 ie\, de l'histoire...
ATTACH;FMTTYPE=image/jpeg:https://toulouse.occeo.net/wp-content/uploads/20
 20/07/Wordpress-logo-Espéranto-Magazino-.png
CATEGORIES:régional,local
END:VEVENT
END:VCALENDAR