BEGIN:VCALENDAR
VERSION:2.0
PRODID:-//wp-events-plugin.com//7.2.3.1//EN
TZID:Europe/Paris
X-WR-TIMEZONE:Europe/Paris
BEGIN:VEVENT
UID:1561@toulouse.occeo.net
DTSTART:20240608T100000Z
DTEND:20240608T130000Z
DTSTAMP:20240522T075645Z
URL:https://toulouse.occeo.net/evenements/inauguration-de-la-statue-de-luc
 ien-peraire/
SUMMARY:Inauguration de la statue de Lucien Péraire
DESCRIPTION:A l'invitation de M. Ludovic Biasotto\, maire de Lavardac\, aur
 a lieu la cérémonie d'inauguration de la statue de Lucien Péraire\, esp
 érantiste  natif de Lavardac\, qui a effectué un voyage à vélo de la 
 France jusqu'en Chine dans les années 1928-1932.\n\nPlus de précisons : 
 Lucien Péraire\, à travers le monde en vélo grâce à l’espéranto.\n
 \n\n\nLe Centre Culturel Espéranto propose de prendre part à l'inaugurat
 ion en partant de Matabiau à 07:52 puis en se rendant d'Agen à Lavardac 
 en vélo. L'inauguration sera suivie d'un repas: veuillez faire savoir si 
 vous comptez prendre part au repas (27 € environ) en renseignant ce form
 ulaire.
ATTACH;FMTTYPE=image/jpeg:https://toulouse.occeo.net/wp-content/uploads/20
 24/04/Statuo-memore-al-Lucien-Peraire-1.jpg
CATEGORIES:local
END:VEVENT
END:VCALENDAR