BEGIN:VCALENDAR
VERSION:2.0
PRODID:-//wp-events-plugin.com//7.2.3.1//EN
TZID:Europe/Paris
X-WR-TIMEZONE:Europe/Paris
BEGIN:VEVENT
UID:1548@toulouse.occeo.net
DTSTART:20240313T113000Z
DTEND:20240314T150000Z
DTSTAMP:20240301T100706Z
URL:https://toulouse.occeo.net/evenements/stand-de-decouverte-a-luniversit
 e-jean-jaures-2/
SUMMARY:Stand de découverte à l'université Jean Jaurès
DESCRIPTION:Venez nous rencontrer à l'université Jean Jaurès\, bâtiment
  Erasme pour faire vos premiers pas (ou quelques uns de plus) dans le mond
 e espérantiste. Vous pourrez découvrir l'histoire de la langue\, et appr
 endre des mots en jouant!
ATTACH;FMTTYPE=image/jpeg:https://toulouse.occeo.net/wp-content/uploads/20
 24/02/Stando-CRL-Jean-Jaures-03-scaled.jpg
CATEGORIES:local
LOCATION:Université Jean Jaurès\, 5 Allée Antonio Machado\, Toulouse\, 3
 1100\, France
GEO:43.60316034878534;1.4400032962646492
X-APPLE-STRUCTURED-LOCATION;VALUE=URI;X-ADDRESS=5 Allée Antonio Machado\, 
 Toulouse\, 31100\, France;X-APPLE-RADIUS=100;X-TITLE=Université Jean Jaur
 ès:geo:43.60316034878534,1.4400032962646492
END:VEVENT
END:VCALENDAR