BEGIN:VCALENDAR
VERSION:2.0
PRODID:-//wp-events-plugin.com//7.2.3.1//EN
TZID:Europe/Paris
X-WR-TIMEZONE:Europe/Paris
BEGIN:VEVENT
UID:913@toulouse.occeo.net
DTSTART:20210604T090000Z
DTEND:20210604T110000Z
DTSTAMP:20210602T111832Z
URL:https://toulouse.occeo.net/evenements/volontulad-programoj-por-esperan
 tujo/
SUMMARY:Programmes de volontariat pour l'espéranto
DESCRIPTION:Kadre de la Erasmus+ projekto\, Volontulado kaj asocia daŭripo
 v-evoluo\, kiu kunigas plurajn esperanto-organizojn :\n\n 	Esperanto-Kultu
 r-Centro (Tuluzo - Francio)\n 	Kosmo Strategio (Britio)\n 	Bunta Esperanto
 -asocio (Italio)\n 	BES (Pollando)\n 	ICH (Herzberg - Germanio)\n 	TEJO (N
 ederlando)\,\n\nvendredon\, la 4an de Junio de 11h ĝis 13h (CEST)\, ni de
 tale prezentos al vi 2 volontulad-programojn:\n\n 	Civita Servo (Francia)\
 n 	Eŭropaj Solidaraj Korpusoj (Eŭropunia)\n\n\n\nĈiu programo havas sia
 jn apartajn regulojn\, sed ambaŭ portas grandajn oportunojn al Esperanto-
 movado\, kaj povas interesi organizojn aŭ aktivulojn el la tuta mondo.\n\
 n\nLa partneroj decidis malfermi tiun prezenton al ĉiuj interesitoj\, do 
 bonvenon\, vendredon la 4an\nen tiu Zoom-ĉambro: https://univ-tlse2.zoom.
 us/j/7340813453\nPasvorto: 541750
ATTACH;FMTTYPE=image/jpeg:https://toulouse.occeo.net/wp-content/uploads/20
 21/06/Volontulad-programoj.png
CATEGORIES:local,international,régional
END:VEVENT
END:VCALENDAR